View In:
ArcGIS JavaScript
ArcGIS Online Map Viewer
ArcGIS Earth
Service Description: Heat_Event_Hours_2024
Name: Heat_Event_Hours_2024
Description:
Single Fused Map Cache: false
Extent:
XMin: 739708.5803
YMin: 2908288.8183
XMax: 812282.0801
YMax: 2970117.7297
Spatial Reference: 102686
(2249)
LatestVCSWkid(0)
Initial Extent:
XMin: 739708.5803
YMin: 2908288.8183
XMax: 812282.0801
YMax: 2970117.7297
Spatial Reference: 102686
(2249)
LatestVCSWkid(0)
Full Extent:
XMin: 739708.5803
YMin: 2908288.8183
XMax: 812282.0801
YMax: 2970117.7297
Spatial Reference: 102686
(2249)
LatestVCSWkid(0)
Pixel Size X: 31.83048236842105
Pixel Size Y: 33.767838012015346
Band Count: 1
Pixel Type: F32
RasterFunction Infos: {"rasterFunctionInfos": [{
"name": "None",
"description": "",
"help": ""
}]}
Mensuration Capabilities: Basic
Inspection Capabilities:
Has Histograms: true
Has Colormap: false
Has Multi Dimensions : false
Rendering Rule:
Min Scale: 0
Max Scale: 0
Copyright Text:
Service Data Type: esriImageServiceDataTypeGeneric
Min Values: 20
Max Values: 38.940147399902344
Mean Values: 28.789069341953713
Standard Deviation Values: 2.979729555310498
Object ID Field:
Fields:
None
Default Mosaic Method: Center
Allowed Mosaic Methods:
SortField:
SortValue: null
Mosaic Operator: First
Default Compression Quality: 75
Default Resampling Method: Bilinear
Max Record Count: null
Max Image Height: 4100
Max Image Width: 15000
Max Download Image Count: null
Max Mosaic Image Count: null
Allow Raster Function: true
Allow Copy: true
Allow Analysis: true
Allow Compute TiePoints: false
Supports Statistics: false
Supports Advanced Queries: false
Use StandardizedQueries: true
Raster Type Infos:
Name: Raster Dataset
Description: Supports all ArcGIS Raster Datasets
Help:
Has Raster Attribute Table: false
Edit Fields Info: null
Ownership Based AccessControl For Rasters: null
Child Resources:
Info
Histograms
Statistics
Key Properties
Legend
Raster Function Infos
Supported Operations:
Export Image
Identify
Measure
Compute Histograms
Compute Statistics Histograms
Get Samples
Compute Class Statistics
Query Boundary
Compute Pixel Location
Compute Angles
Validate
Project