{
 "currentVersion": 11.3,
 "serviceDescription": "Heat_Event_Hours_2024",
 "name": "Heat_Event_Hours_2024",
 "description": "",
 "extent": {
  "xmin": 739708.5803,
  "ymin": 2908288.8183,
  "xmax": 812282.0801,
  "ymax": 2970117.7297,
  "spatialReference": {
   "wkid": 102686,
   "latestWkid": 2249
  }
 },
 "initialExtent": {
  "xmin": 739708.5803,
  "ymin": 2908288.8183,
  "xmax": 812282.0801,
  "ymax": 2970117.7297,
  "spatialReference": {
   "wkid": 102686,
   "latestWkid": 2249
  }
 },
 "fullExtent": {
  "xmin": 739708.5803,
  "ymin": 2908288.8183,
  "xmax": 812282.0801,
  "ymax": 2970117.7297,
  "spatialReference": {
   "wkid": 102686,
   "latestWkid": 2249
  }
 },
 "sortableFields": "",
 "bandCount": 1,
 "pixelType": "F32",
 "minValues": [
  20
 ],
 "maxValues": [
  38.940147399902344
 ],
 "meanValues": [
  28.789069341953713
 ],
 "stdvValues": [
  2.979729555310498
 ],
 "hasMultidimensions": false,
 "pixelSizeX": 31.83048236842105,
 "pixelSizeY": 33.767838012015346,
 "meanPixelSize": 9.997204020386548,
 "datasetFormat": "FGDBR",
 "uncompressedSize": 16698720,
 "blockWidth": 128,
 "blockHeight": 128,
 "compressionType": "LZ77",
 "bandNames": [
  "Band_1"
 ],
 "allowCopy": true,
 "allowAnalysis": true,
 "itemAccess": false,
 "inspectionCapabilities": "",
 "minPixelSize": 0,
 "maxPixelSize": 0,
 "copyrightText": "",
 "serviceDataType": "esriImageServiceDataTypeGeneric",
 "serviceSourceType": "esriImageServiceSourceTypeDataset",
 "objectIdField": "",
 "fields": [],
 "capabilities": "Image,Metadata,Mensuration",
 "defaultMosaicMethod": "Center",
 "allowedMosaicMethods": "",
 "sortField": "",
 "sortValue": null,
 "sortAscending": true,
 "mosaicOperator": "First",
 "defaultCompressionQuality": 75,
 "defaultResamplingMethod": "Bilinear",
 "maxImageHeight": 4100,
 "maxImageWidth": 15000,
 "allowRasterFunction": true,
 "rasterFunctionInfos": [
  {
   "name": "None",
   "description": "",
   "help": ""
  }
 ],
 "rasterTypeInfos": [
  {
   "name": "Raster Dataset",
   "description": "Supports all ArcGIS Raster Datasets",
   "help": ""
  }
 ],
 "mensurationCapabilities": "Basic",
 "hasHistograms": true,
 "hasColormap": false,
 "hasRasterAttributeTable": false,
 "minScale": 0,
 "maxScale": 0,
 "exportTilesAllowed": false,
 "supportsStatistics": false,
 "supportsAdvancedQueries": false,
 "editFieldsInfo": null,
 "ownershipBasedAccessControlForRasters": null,
 "allowComputeTiePoints": false,
 "useStandardizedQueries": true,
 "advancedQueryCapabilities": {
  "useStandardizedQueries": true,
  "supportsStatistics": false,
  "supportsOrderBy": false,
  "supportsDistinct": false,
  "supportsPagination": false
 },
 "spatialReference": {
  "wkid": 102686,
  "latestWkid": 2249
 }
}
