{
 "currentVersion": 11.3,
 "serviceDescription": "Nighttime_Air_Temp_2024",
 "name": "Nighttime_Air_Temp_2024",
 "description": "",
 "extent": {
  "xmin": 739730.5108,
  "ymin": 2908294.9837,
  "xmax": 812240.3497,
  "ymax": 2970056.3594,
  "spatialReference": {
   "wkid": 102686,
   "latestWkid": 2249
  }
 },
 "initialExtent": {
  "xmin": 739730.5108,
  "ymin": 2908294.9837,
  "xmax": 812240.3497,
  "ymax": 2970056.3594,
  "spatialReference": {
   "wkid": 102686,
   "latestWkid": 2249
  }
 },
 "fullExtent": {
  "xmin": 739730.5108,
  "ymin": 2908294.9837,
  "xmax": 812240.3497,
  "ymax": 2970056.3594,
  "spatialReference": {
   "wkid": 102686,
   "latestWkid": 2249
  }
 },
 "sortableFields": "",
 "bandCount": 1,
 "pixelType": "F32",
 "minValues": [
  79
 ],
 "maxValues": [
  91.052734375
 ],
 "meanValues": [
  82.33130471858435
 ],
 "stdvValues": [
  2.232998033557476
 ],
 "hasMultidimensions": false,
 "pixelSizeX": 32.76540393131494,
 "pixelSizeY": 32.764655543766445,
 "meanPixelSize": 9.98680103760448,
 "datasetFormat": "FGDBR",
 "uncompressedSize": 16677168,
 "blockWidth": 128,
 "blockHeight": 128,
 "compressionType": "LZ77",
 "bandNames": [
  "Band_1"
 ],
 "allowCopy": true,
 "allowAnalysis": true,
 "itemAccess": false,
 "inspectionCapabilities": "",
 "minPixelSize": 0,
 "maxPixelSize": 0,
 "copyrightText": "",
 "serviceDataType": "esriImageServiceDataTypeGeneric",
 "serviceSourceType": "esriImageServiceSourceTypeDataset",
 "objectIdField": "",
 "fields": [],
 "capabilities": "Image,Metadata,Mensuration",
 "defaultMosaicMethod": "Center",
 "allowedMosaicMethods": "",
 "sortField": "",
 "sortValue": null,
 "sortAscending": true,
 "mosaicOperator": "First",
 "defaultCompressionQuality": 75,
 "defaultResamplingMethod": "Bilinear",
 "maxImageHeight": 4100,
 "maxImageWidth": 15000,
 "allowRasterFunction": true,
 "rasterFunctionInfos": [
  {
   "name": "None",
   "description": "",
   "help": ""
  }
 ],
 "rasterTypeInfos": [
  {
   "name": "Raster Dataset",
   "description": "Supports all ArcGIS Raster Datasets",
   "help": ""
  }
 ],
 "mensurationCapabilities": "Basic",
 "hasHistograms": true,
 "hasColormap": false,
 "hasRasterAttributeTable": false,
 "minScale": 0,
 "maxScale": 0,
 "exportTilesAllowed": false,
 "supportsStatistics": false,
 "supportsAdvancedQueries": false,
 "editFieldsInfo": null,
 "ownershipBasedAccessControlForRasters": null,
 "allowComputeTiePoints": false,
 "useStandardizedQueries": true,
 "advancedQueryCapabilities": {
  "useStandardizedQueries": true,
  "supportsStatistics": false,
  "supportsOrderBy": false,
  "supportsDistinct": false,
  "supportsPagination": false
 },
 "spatialReference": {
  "wkid": 102686,
  "latestWkid": 2249
 }
}
